BEGIN:VCALENDAR
VERSION:2.0
PRODID:DPCALENDAR
CALSCALE:GREGORIAN
X-WR-TIMEZONE:UTC
BEGIN:VEVENT
DTSTART;TZID=UTC:20160702T150000
DTEND;TZID=UTC:20160702T164500
UID:6FE1DE3A-1141-45B6-9497-711277711E6B
SUMMARY:Vorbereitung: SV Vorwärts Hülsen - TSV Etelsen
CREATED:20160626T161115Z
DTSTAMP:20160626T161115Z
URL:https://www.schlossparkkicker.de/index.php?option=com_dpcalendar&view=event&id=67&calid=54&Itemid=117
DESCRIPTION:Vorbereitung 2016-2017
X-ALT-DESC;FMTTYPE=text/html:<p>Vorbereitung 2016-2017</p>
LAST-MODIFIED:20160626T161619Z
SEQUENCE:304
LOCATION:Schützenweg 22\, 27313 Dörverden\, Niedersachsen\, Deutschland
GEO:52.81143200;9.32627000
X-LOCATION-DISPLAYNAME:SV Vorwärts Hülsen, Sportanlage
X-ACCESS:1
X-HITS:52414
X-COLOR:3366cc
X-SHOW-END-TIME:1
END:VEVENT
BEGIN:VEVENT
DTSTART;TZID=UTC:20160706T183000
DTEND;TZID=UTC:20160706T201500
UID:0130C80E-BB14-456D-A0D1-B638B39FE85F
SUMMARY:Vorbereitung: Brinkumer SV - TSV Etelsen
CREATED:20160626T161620Z
DTSTAMP:20160626T161620Z
URL:https://www.schlossparkkicker.de/index.php?option=com_dpcalendar&view=event&id=68&calid=54&Itemid=117
DESCRIPTION:Vorbereitung 2016-2017
X-ALT-DESC;FMTTYPE=text/html:<p>Vorbereitung 2016-2017</p>
LAST-MODIFIED:20160705T141425Z
SEQUENCE:770285
LOCATION:Am Sportplatz 8\, 27299 Langwedel\, Niedersachsen\, Deutschland
GEO:52.99404900;9.11022500
X-LOCATION-DISPLAYNAME:TSV Etelsen, Schlosspark-Stadion
X-ACCESS:1
X-HITS:59764
X-COLOR:3366cc
X-SHOW-END-TIME:1
END:VEVENT
BEGIN:VEVENT
DTSTART;TZID=UTC:20160708T180000
DTEND;TZID=UTC:20160708T194500
UID:3A5472BE-062B-4E6E-894E-39A891D9A482
SUMMARY:Gruppe II: TV Oyten - FSV Langwedel/Völkersen
CREATED:20160626T152735Z
DTSTAMP:20160626T152735Z
URL:https://www.schlossparkkicker.de/index.php?option=com_dpcalendar&view=event&id=59&calid=62&Itemid=117
LOCATION:Am Sportplatz 8\, 27299 Langwedel\, Niedersachsen\, Deutschland
GEO:52.99404900;9.11022500
X-LOCATION-DISPLAYNAME:TSV Etelsen, Schlosspark-Stadion
X-ACCESS:1
X-HITS:60350
X-COLOR:3366cc
X-SHOW-END-TIME:1
END:VEVENT
BEGIN:VEVENT
DTSTART;TZID=UTC:20160708T200000
DTEND;TZID=UTC:20160708T214500
UID:A6CEBDFA-FF06-4EC6-8949-0F9D7BC4DD24
SUMMARY:Gruppe I: TSV Bassen - FC Verden 04 
CREATED:20160626T153251Z
DTSTAMP:20160626T153251Z
URL:https://www.schlossparkkicker.de/index.php?option=com_dpcalendar&view=event&id=60&calid=62&Itemid=117
LOCATION:Am Sportplatz 8\, 27299 Langwedel\, Niedersachsen\, Deutschland
GEO:52.99404900;9.11022500
X-LOCATION-DISPLAYNAME:TSV Etelsen, Schlosspark-Stadion
X-ACCESS:1
X-HITS:54759
X-COLOR:3366cc
X-SHOW-END-TIME:1
END:VEVENT
BEGIN:VEVENT
DTSTART;TZID=UTC:20160710T000000
DTEND;TZID=UTC:20160710T000000
UID:393CB7C3-939D-4C0F-8E37-97AB8DF1B4F0
SUMMARY:Vorbereitung: TSV Etelsen - VfL 07 Bremen
CREATED:20160626T161940Z
DTSTAMP:20160626T161940Z
URL:https://www.schlossparkkicker.de/index.php?option=com_dpcalendar&view=event&id=69&calid=54&Itemid=117
DESCRIPTION:Spiel findet während des Trainingswochenendes statt. Die Uhrzeit steht noch nicht fest.
X-ALT-DESC;FMTTYPE=text/html:<p>Spiel findet w&auml;hrend des Trainingswochenendes statt. Die Uhrzeit steht noch nicht fest.</p>
X-ACCESS:1
X-HITS:45544
X-COLOR:3366cc
X-SHOW-END-TIME:1
END:VEVENT
BEGIN:VEVENT
DTSTART;TZID=UTC:20160710T170000
DTEND;TZID=UTC:20160710T184500
UID:D2600AF2-BC45-41EC-AA63-E20755574D67
SUMMARY:Gruppe I: TB Uphusen - TSV Bassen
CREATED:20160626T153544Z
DTSTAMP:20160626T153544Z
URL:https://www.schlossparkkicker.de/index.php?option=com_dpcalendar&view=event&id=61&calid=62&Itemid=117
LAST-MODIFIED:20160705T141500Z
SEQUENCE:772756
LOCATION:Am Sportplatz 8\, 27299 Langwedel\, Niedersachsen\, Deutschland
GEO:52.99404900;9.11022500
X-LOCATION-DISPLAYNAME:TSV Etelsen, Schlosspark-Stadion
X-ACCESS:1
X-HITS:60556
X-COLOR:3366cc
X-SHOW-END-TIME:1
END:VEVENT
BEGIN:VEVENT
DTSTART;TZID=UTC:20160713T193000
DTEND;TZID=UTC:20160713T211500
UID:F0F997E8-6E4F-4667-8D0D-670C77C86886
SUMMARY:Gruppe I: FC Verden 04 - TB Uphusen
CREATED:20160626T155234Z
DTSTAMP:20160626T155234Z
URL:https://www.schlossparkkicker.de/index.php?option=com_dpcalendar&view=event&id=62&calid=62&Itemid=117
LOCATION:Am Sportplatz 8\, 27299 Langwedel\, Niedersachsen\, Deutschland
GEO:52.99404900;9.11022500
X-LOCATION-DISPLAYNAME:TSV Etelsen, Schlosspark-Stadion
X-ACCESS:1
X-HITS:62982
X-COLOR:3366cc
X-SHOW-END-TIME:1
END:VEVENT
BEGIN:VEVENT
DTSTART;TZID=UTC:20160714T193000
DTEND;TZID=UTC:20160714T211500
UID:0F481D40-C8B0-4A9B-8F23-0C961A3858EF
SUMMARY:Gruppe II: TSV Etelsen - TV Oyten
CREATED:20160626T155455Z
DTSTAMP:20160626T155455Z
URL:https://www.schlossparkkicker.de/index.php?option=com_dpcalendar&view=event&id=63&calid=62&Itemid=117
LOCATION:Am Sportplatz 8\, 27299 Langwedel\, Niedersachsen\, Deutschland
GEO:52.99404900;9.11022500
X-LOCATION-DISPLAYNAME:TSV Etelsen, Schlosspark-Stadion
X-ACCESS:1
X-HITS:61355
X-COLOR:3366cc
X-SHOW-END-TIME:1
END:VEVENT
BEGIN:VEVENT
DTSTART;TZID=UTC:20160715T190000
DTEND;TZID=UTC:20160715T204500
UID:F691BA06-F568-446A-A37E-442287557DD4
SUMMARY:Gruppe II: FSV Langwedel/Völkersen - TSV Etelsen
CREATED:20160626T155710Z
DTSTAMP:20160626T155710Z
URL:https://www.schlossparkkicker.de/index.php?option=com_dpcalendar&view=event&id=64&calid=62&Itemid=117
LOCATION:Am Sportplatz 8\, 27299 Langwedel\, Niedersachsen\, Deutschland
GEO:52.99404900;9.11022500
X-LOCATION-DISPLAYNAME:TSV Etelsen, Schlosspark-Stadion
X-ACCESS:1
X-HITS:58781
X-COLOR:3366cc
X-SHOW-END-TIME:1
END:VEVENT
BEGIN:VEVENT
DTSTART;TZID=UTC:20160717T140000
DTEND;TZID=UTC:20160717T154500
UID:15140762-56C7-4189-91BE-004BD35801C2
SUMMARY:Finalrunde: Spiel um Platz drei
CREATED:20160626T160317Z
DTSTAMP:20160626T160317Z
URL:https://www.schlossparkkicker.de/index.php?option=com_dpcalendar&view=event&id=65&calid=62&Itemid=117
LOCATION:Am Sportplatz 8\, 27299 Langwedel\, Niedersachsen\, Deutschland
GEO:52.99404900;9.11022500
X-LOCATION-DISPLAYNAME:TSV Etelsen, Schlosspark-Stadion
X-ACCESS:1
X-HITS:57857
X-COLOR:3366cc
X-SHOW-END-TIME:1
END:VEVENT
BEGIN:VEVENT
DTSTART;TZID=UTC:20160717T160000
DTEND;TZID=UTC:20160717T174500
UID:82F1B79C-ABF5-48AE-9D88-ABDFE307671F
SUMMARY:Finale
CREATED:20160626T160633Z
DTSTAMP:20160626T160633Z
URL:https://www.schlossparkkicker.de/index.php?option=com_dpcalendar&view=event&id=66&calid=62&Itemid=117
LOCATION:Am Sportplatz 8\, 27299 Langwedel\, Niedersachsen\, Deutschland
GEO:52.99404900;9.11022500
X-LOCATION-DISPLAYNAME:TSV Etelsen, Schlosspark-Stadion
X-ACCESS:1
X-HITS:59168
X-COLOR:3366cc
X-SHOW-END-TIME:1
END:VEVENT
BEGIN:VEVENT
DTSTART;TZID=UTC:20161130T190000
DTEND;TZID=UTC:20161130T204500
UID:3310BC9C-334A-4349-A0AD-0D9DA67F4D13
SUMMARY:Vorbereitung: SV Werder 2 - TSV Etelsen
CREATED:20161129T124209Z
DTSTAMP:20161129T124209Z
URL:https://www.schlossparkkicker.de/index.php?option=com_dpcalendar&view=event&id=106&calid=54&Itemid=117
LAST-MODIFIED:20170112T164440Z
SEQUENCE:3816151
LOCATION:Stader Str. 90\, 28876 Oyten\, Niedersachsen\, Deutschland
GEO:53.06991200;9.01008500
X-LOCATION-DISPLAYNAME:Sportanlage Oyten
X-ACCESS:1
X-HITS:56675
X-COLOR:3366cc
X-SHOW-END-TIME:1
END:VEVENT
BEGIN:VEVENT
DTSTART;TZID=UTC:20170127T183000
DTEND;TZID=UTC:20170127T201500
UID:0936FD0F-77AD-44D8-A1D0-D6C8CC39588F
SUMMARY:Vorbereitung: TUS Schwachhausen - TSV Etelsen
CREATED:20170102T072850Z
DTSTAMP:20170102T072850Z
URL:https://www.schlossparkkicker.de/index.php?option=com_dpcalendar&view=event&id=110&calid=54&Itemid=117
DESCRIPTION:Freundschaftsspiel beim 4. der Bremen-Liga.\NAbgesagt - Platz unbespielbar (vereist)!
X-ALT-DESC;FMTTYPE=text/html:<p>Freundschaftsspiel beim<span id="transmark" style="display: none; width: 0px; height: 0px;"></span> 4. der Bremen-Liga.</p><p>Abgesagt - Platz unbespielbar (vereist)!</p>
LAST-MODIFIED:20170128T184055Z
SEQUENCE:2286725
LOCATION:Konrad-Adenauer-Allee 86\, 28329 Bremen\, Niedersachsen\, Deutschland
GEO:53.07818200;8.86261400
X-LOCATION-DISPLAYNAME:BSA Schwachhausen
X-ACCESS:1
X-HITS:363
X-COLOR:3366cc
X-SHOW-END-TIME:1
END:VEVENT
BEGIN:VEVENT
DTSTART;TZID=UTC:20170129T150000
DTEND;TZID=UTC:20170129T164500
UID:BABF00B2-204A-4F0D-AA1C-5EB909FF567F
SUMMARY:Vorbereitung: BSC Hastedt - TSV Etelsen
CREATED:20161220T090530Z
DTSTAMP:20161220T090530Z
URL:https://www.schlossparkkicker.de/index.php?option=com_dpcalendar&view=event&id=109&calid=54&Itemid=117
DESCRIPTION:Der BSC Hastedt belegt zur Winterpause der Saison 2016-2017 den ersten Platz der Landesliga Bremen. Die Begegnung wird auf Kunstrasen ausgetragen.\NAbgesagt - Platz unbespielbar (vereist)!
X-ALT-DESC;FMTTYPE=text/html:<p>Der BSC Hastedt belegt zur Winterpause der Saison 2016-2017 den ersten Platz der Landesliga Bremen. Die Begegnung wird auf Kunstrasen ausgetragen.</p><p>Abgesagt - Platz unbespielbar (vereist)!</p>
LAST-MODIFIED:20170128T184013Z
SEQUENCE:3404083
LOCATION:Hastedter Osterdeich 225\, 28207  Bremen\, Niedersachsen\, Deutschland
GEO:53.06284000;8.85959200
X-LOCATION-DISPLAYNAME:SPA Hastedt
X-ACCESS:1
X-HITS:685
X-COLOR:3366cc
X-SHOW-END-TIME:1
END:VEVENT
BEGIN:VEVENT
DTSTART;TZID=UTC:20170205T130000
DTEND;TZID=UTC:20170205T144500
UID:83D825B3-DE0A-40F7-98A1-EC3529EF9188
SUMMARY:Vorbereitung: SV Werder 3 - TSV Etelsen
CREATED:20170209T132521Z
DTSTAMP:20170209T132521Z
URL:https://www.schlossparkkicker.de/index.php?option=com_dpcalendar&view=event&id=114&calid=54&Itemid=117
DESCRIPTION:Die Begegnung endete mit einer 6:2 (5:1) Niederlage. Pascal Kubiak brachte uns nach 19 min zwar in Führung, aber schon 2 min später fiel der Ausgleich. Zwischen der 32. und 45. Min der ersten Halbzeit erzielte Werder noch 4 weitere Tore! In der zweiten Halbzeit verkürzte Kubiak zunächst auf 2:5 (54.), doch nur gut 10 min später war der alte Abstand mit dem 6:2 wieder hergestellt.
X-ALT-DESC;FMTTYPE=text/html:<p>Die Begegnung endete mit einer 6:2 (5:1) Niederlage. Pascal Kubiak brachte uns nach 19 min zwar in F&uuml;hrung, aber schon 2 min sp&auml;ter fiel der Ausgleich. Zwischen der 32. und 45. Min der ersten Halbzeit erzielte Werder noch 4 weitere Tore! In der zweiten Halbzeit verk&uuml;rzte Kubiak zun&auml;chst auf 2:5 (54.), doch nur gut 10 min sp&auml;ter war der alte Abstand mit dem 6:2 wieder hergestellt.</p>
LAST-MODIFIED:20170209T134211Z
SEQUENCE:1010
LOCATION:Franz-Böhmert-Straße 7\, 28205 Bremen\, Niedersachsen\, Deutschland
GEO:53.06545600;8.83908700
X-LOCATION-DISPLAYNAME:SV Werder Weserstadion
X-ACCESS:1
X-HITS:45203
X-COLOR:3366cc
X-SHOW-END-TIME:1
END:VEVENT
BEGIN:VEVENT
DTSTART;TZID=UTC:20170208T190000
DTEND;TZID=UTC:20170208T204500
UID:DAD4DEFE-1BAA-430E-B704-AC928241BE48
SUMMARY:Vorbereitung: TuS Sulingen - TSV Etelsen
CREATED:20170102T075102Z
DTSTAMP:20170102T075102Z
URL:https://www.schlossparkkicker.de/index.php?option=com_dpcalendar&view=event&id=111&calid=54&Itemid=117
DESCRIPTION:Freundschaftsspiel beim souveränen Herbstmeister der Landesliga Hannover. Kurzfristig wegen starken Schneefalls vom TuS Sulingen abgesagt.
X-ALT-DESC;FMTTYPE=text/html:<p>Freundschaftsspiel beim<span id="transmark" style="display: none; width: 0px; height: 0px;"></span> souver&auml;nen Herbstmeister der Landesliga Hannover. Kurzfristig wegen starken Schneefalls vom TuS Sulingen abgesagt.</p>
LAST-MODIFIED:20170209T132049Z
SEQUENCE:3302987
LOCATION:Werner-Kling-Straße 2\, 27232 Sulingen\, Niedersachsen\, Deutschland
GEO:52.67971000;8.83019900
X-LOCATION-DISPLAYNAME:Sportpark Sulingen
X-ACCESS:1
X-HITS:568
X-COLOR:3366cc
X-SHOW-END-TIME:1
END:VEVENT
BEGIN:VEVENT
DTSTART;TZID=UTC:20170208T200000
DTEND;TZID=UTC:20170208T214500
UID:5D22FC1B-E82B-4904-A9C2-0F8030A84FFD
SUMMARY:Vorbereitung: BSC Hastedt - TSV Etelsen
CREATED:20170208T130827Z
DTSTAMP:20170208T130827Z
URL:https://www.schlossparkkicker.de/index.php?option=com_dpcalendar&view=event&id=113&calid=54&Itemid=117
DESCRIPTION:Der BSC Hastedt belegt zur Winterpause der Saison 2016-2017 den ersten Platz der Landesliga Bremen. Die Begegnung wird wohl auf Kunstrasen ausgetragen.
X-ALT-DESC;FMTTYPE=text/html:<p>Der BSC Hastedt belegt zur Winterpause der Saison 2016-2017 den ersten Platz der Landesliga Bremen. Die Begegnung wird wohl auf Kunstrasen ausgetragen.</p>
LAST-MODIFIED:20170208T130948Z
SEQUENCE:81
LOCATION:Hastedter Osterdeich 225\, 28207  Bremen\, Niedersachsen\, Deutschland
GEO:53.06284000;8.85959200
X-LOCATION-DISPLAYNAME:SPA Hastedt
X-ACCESS:1
X-HITS:46155
X-COLOR:3366cc
X-SHOW-END-TIME:1
END:VEVENT
BEGIN:VEVENT
DTSTART;TZID=UTC:20170220T200000
DTEND;TZID=UTC:20170220T214500
UID:B6401DFB-0E51-4EE0-A406-11C1BD24AFDB
SUMMARY:Vorbereitung: TSV Gut Heil Bassen - TSV Etelsen
CREATED:20170215T155612Z
DTSTAMP:20170215T155612Z
URL:https://www.schlossparkkicker.de/index.php?option=com_dpcalendar&view=event&id=115&calid=54&Itemid=117
DESCRIPTION:Freundschaftsspiel in Oyten gegen den 3. der Bezirksliga 3, Lüneburg. Die Begegnung endete mit einem ungefährdeten 1:5 (1:4) Sieg! 
X-ALT-DESC;FMTTYPE=text/html:<p><span style="font-family: 'Calibri','sans-serif'; font-size: 11pt;">Freundschaftsspiel <span style="font-family: 'Calibri','sans-serif'; font-size: 11pt;">in Oyten</span> gegen den 3. der Bezirksliga 3, Lüneburg. Die Begegnung endete mit einem ungefährdeten <span id="transmark" style="display: none; width: 0px; height: 0px;"></span>1:5 (1:4) Sieg! <br /></span></p>
LAST-MODIFIED:20180202T100217Z
SEQUENCE:30391565
LOCATION:Stader Str. 90\, 28876 Oyten\, Niedersachsen\, Deutschland
GEO:53.06991200;9.01008500
X-LOCATION-DISPLAYNAME:Sportanlage Oyten
X-ACCESS:1
X-HITS:52318
X-COLOR:3366cc
X-SHOW-END-TIME:1
END:VEVENT
BEGIN:VEVENT
DTSTART;TZID=UTC:20170226T153000
DTEND;TZID=UTC:20170226T171500
UID:E1F21B74-4B4A-4144-8388-0AA67FE9FF16
SUMMARY:Vorbereitung: TV Oyten - TSV Etelsen
CREATED:20161204T085426Z
DTSTAMP:20161204T085426Z
URL:https://www.schlossparkkicker.de/index.php?option=com_dpcalendar&view=event&id=108&calid=54&Itemid=117
DESCRIPTION:Freundschaftsspiel beim 5. der Bezirksliga 3, Lüneburg. Endstand 0:1. Kubiak traf in der 44. Min.
X-ALT-DESC;FMTTYPE=text/html:<p><span style="font-family: 'Calibri','sans-serif'; font-size: 11pt;">Freundschaftsspiel beim<span id="transmark" style="display: none; width: 0px; height: 0px;"></span> 5. der Bezirksliga 3, L&uuml;neburg. Endstand 0:1. Kubiak traf in der 44. Min.</span></p>
LAST-MODIFIED:20170226T211442Z
SEQUENCE:7302016
LOCATION:Stader Str. 90\, 28876 Oyten\, Niedersachsen\, Deutschland
GEO:53.06991200;9.01008500
X-LOCATION-DISPLAYNAME:Sportanlage Oyten
X-ACCESS:1
X-HITS:62744
X-COLOR:3366cc
X-SHOW-END-TIME:1
END:VEVENT
END:VCALENDAR