BEGIN:VCALENDAR
VERSION:2.0
PRODID:DPCALENDAR
CALSCALE:GREGORIAN
X-WR-TIMEZONE:UTC
BEGIN:VEVENT
DTSTART;TZID=UTC:20220706T193000
DTEND;TZID=UTC:20220706T211500
UID:4CF1A71C-EA2E-416F-BBC3-70EC9564D8AC
SUMMARY:Vorb.: VSK Osterholz - TSV Etelsen
CREATED:20220707T084946Z
DTSTAMP:20220707T084946Z
URL:https://www.schlossparkkicker.de/index.php?option=com_dpcalendar&view=event&id=315&calid=60&Itemid=117
DESCRIPTION:Vorbereitungsspiel. Etelsen gewinnt 2:4
X-ALT-DESC;FMTTYPE=text/html:<p>Vorbereitungsspiel. Etelsen gewinnt 2:4</p>
LAST-MODIFIED:20230701T135451Z
SEQUENCE:31035905
LOCATION:Am Stadion\, 27711 Osterholz-Scharmbeck\, Niedersachsen\, Deutschland
GEO:53.22297700;8.80380000
X-LOCATION-DISPLAYNAME:VSK Osterholz-Scharmbeck, Stadion
X-ACCESS:1
X-HITS:29
X-COLOR:3366cc
X-SHOW-END-TIME:1
END:VEVENT
BEGIN:VEVENT
DTSTART;TZID=UTC:20220712T191500
DTEND;TZID=UTC:20220712T210000
UID:563EB27E-BFF1-4B2D-AD58-E512B3829B71
SUMMARY:Vorb.: SG Aumund-Vegesack - TSV Etelsen
CREATED:20220707T084946Z
DTSTAMP:20220707T084946Z
URL:https://www.schlossparkkicker.de/index.php?option=com_dpcalendar&view=event&id=316&calid=60&Itemid=117
DESCRIPTION:Vorbereitungsspiel. Gegen den Bremenligisten konnten wir 1:2 gewinnen
X-ALT-DESC;FMTTYPE=text/html:<p>Vorbereitungsspiel. Gegen den Bremenligisten konnten wir 1:2 gewinnen</p>
LAST-MODIFIED:20220721T200018Z
SEQUENCE:1249832
LOCATION:Vegesacker Bahnhofspl.\, 28757 Bremen\, Niedersachsen\, Deutschland
GEO:53.16990300;8.62918400
X-LOCATION-DISPLAYNAME:SG Aumund-Vegesack, Vegesacker Stadion
X-ACCESS:1
X-HITS:211
X-COLOR:3366cc
X-SHOW-END-TIME:1
END:VEVENT
BEGIN:VEVENT
DTSTART;TZID=UTC:20220725T180000
DTEND;TZID=UTC:20220725T190500
UID:2B8005A3-044F-4CE9-A0AF-36E895C7FA34
SUMMARY:Vorb.: TSV Etelsen - SC Borgfeld
CREATED:20220721T192741Z
DTSTAMP:20220721T192741Z
URL:https://www.schlossparkkicker.de/index.php?option=com_dpcalendar&view=event&id=352&calid=60&Itemid=117
DESCRIPTION:Gruppenspiel (2×30 Min) im Turnier des SC Borgfeld. SPA Borgfeld, Platz 2. Endstand 1:1
X-ALT-DESC;FMTTYPE=text/html:<p>Gruppenspiel (2×30 Min) im Turnier des SC Borgfeld. SPA Borgfeld, Platz 2. Endstand 1:1</p>
LAST-MODIFIED:20220726T062835Z
SEQUENCE:385254
LOCATION:Hinter dem Großen Dinge 6\, 28357 Bremen\, Bremen\, Deutschland
GEO:53.13000340;8.88242520
X-LOCATION-DISPLAYNAME:SC Borgfeld, Sportanlage 
X-ACCESS:1
X-HITS:132
X-COLOR:3366cc
X-SHOW-END-TIME:1
END:VEVENT
BEGIN:VEVENT
DTSTART;TZID=UTC:20220727T191500
DTEND;TZID=UTC:20220727T202000
UID:D3DFF7C0-7004-4482-A695-69B693226557
SUMMARY:Vorb.: MTV Riede - TSV Etelsen
CREATED:20220721T194918Z
DTSTAMP:20220721T194918Z
URL:https://www.schlossparkkicker.de/index.php?option=com_dpcalendar&view=event&id=353&calid=60&Itemid=117
DESCRIPTION:Gruppenspiel (2×30 Min) beim Turnier des SC Borgfeld. Gespielt wird auf Platz 2
X-ALT-DESC;FMTTYPE=text/html:<p>Gruppenspiel (2×30 Min) beim Turnier des SC Borgfeld. Gespielt wird auf Platz 2</p>
LAST-MODIFIED:20220721T195643Z
SEQUENCE:445
LOCATION:Hinter dem Großen Dinge 6\, 28357 Bremen\, Bremen\, Deutschland
GEO:53.13000340;8.88242520
X-LOCATION-DISPLAYNAME:SC Borgfeld, Sportanlage 
X-ACCESS:1
X-HITS:132
X-COLOR:3366cc
X-SHOW-END-TIME:1
END:VEVENT
BEGIN:VEVENT
DTSTART;TZID=UTC:20230117T200000
DTEND;TZID=UTC:20230117T214500
UID:F39DC38F-A157-4A17-A4A1-8BD13558C973
SUMMARY:Vorbereitung: TSV Bassen - TSV Etelsen
CREATED:20230114T000000Z
DTSTAMP:20230114T000000Z
URL:https://www.schlossparkkicker.de/index.php?option=com_dpcalendar&view=event&id=357&calid=60&Itemid=117
DESCRIPTION:Vorbereitungsspiel gegen einen alten Bekannten aus der Bezirksliga 3 Lüneburg. Ein knapper 1:0 Sieg dank eines frühen Tores von Bormann!
X-ALT-DESC;FMTTYPE=text/html:<p>Vorbereitungsspiel gegen einen alten Bekannten aus der Bezirksliga 3 Lüneburg. Ein knapper 1:0 Sieg dank eines frühen Tores von Bormann!</p>
LAST-MODIFIED:20230122T182831Z
SEQUENCE:757711
LOCATION:Stader Str. 90\, 28876 Oyten\, Niedersachsen\, Deutschland
GEO:53.06991200;9.01008500
X-LOCATION-DISPLAYNAME:Sportanlage Oyten
X-ACCESS:1
X-HITS:34
X-COLOR:3366cc
X-SHOW-END-TIME:1
END:VEVENT
BEGIN:VEVENT
DTSTART;TZID=UTC:20230122T120000
DTEND;TZID=UTC:20230122T134500
UID:E2483210-A08E-40BD-A69C-DCC506728054
SUMMARY:Vorbereitung: Brinkumer SV - TSV Etelsen
CREATED:20230114T000000Z
DTSTAMP:20230114T000000Z
URL:https://www.schlossparkkicker.de/index.php?option=com_dpcalendar&view=event&id=358&calid=60&Itemid=117
DESCRIPTION:Vorbereitungsspiel gegen einen Bremenligisten. Die Begegnung ging mit 2:1 verloren, Simon Gloger sorgte für den zwischenzeitlichen Ausgleich.
X-ALT-DESC;FMTTYPE=text/html:<p>Vorbereitungsspiel gegen einen Bremenligisten. Die Begegnung ging mit 2:1 verloren, Simon Gloger sorgte für den zwischenzeitlichen Ausgleich.</p>
LAST-MODIFIED:20230124T152603Z
SEQUENCE:919563
LOCATION:Pappelstr. 15\, 28816 Stuhr\, Niedersachsen\, Deutschland
GEO:53.00722500;8.77529100
X-LOCATION-DISPLAYNAME:Brinkumer SV, Kunstrasenplatz
X-ACCESS:1
X-HITS:77
X-COLOR:3366cc
X-SHOW-END-TIME:1
END:VEVENT
BEGIN:VEVENT
DTSTART;TZID=UTC:20230126T193000
DTEND;TZID=UTC:20230126T211500
UID:29157630-273A-4A59-8083-9D03F7AC6E0A
SUMMARY:Vorbereitung: VfL 07 Bremen - TSV Etelsen
CREATED:20230114T000000Z
DTSTAMP:20230114T000000Z
URL:https://www.schlossparkkicker.de/index.php?option=com_dpcalendar&view=event&id=359&calid=60&Itemid=117
DESCRIPTION:Vorbereitungsspiel gegen einen Bremenligisten auf Kunstrasen. Einen 2:0 Rückstand zur Halbzeit konnten Nino Nippoldt (eine Leihgabe unserer 2. Herren) und Simo Pals in ein 2:2 Unentschieden verwandeln
X-ALT-DESC;FMTTYPE=text/html:<p>Vorbereitungsspiel gegen einen Bremenligisten auf Kunstrasen. Einen 2:0 Rückstand zur Halbzeit konnten Nino Nippoldt (eine Leihgabe unserer 2. Herren) und Simo Pals in ein 2:2 Unentschieden verwandeln</p>
LAST-MODIFIED:20230128T152357Z
SEQUENCE:1265037
LOCATION:Nürnberger Str. (Ecke Regensburger Str.) 65\, 28215 Bremen\, Niedersachsen\, Deutschland
GEO:53.10215800;8.81402700
X-LOCATION-DISPLAYNAME:BSA Findorff
X-ACCESS:1
X-HITS:166
X-COLOR:3366cc
X-SHOW-END-TIME:1
END:VEVENT
BEGIN:VEVENT
DTSTART;TZID=UTC:20230128T120000
DTEND;TZID=UTC:20230128T134500
UID:02107DF6-EF9F-43D5-AC0B-0974CCA9FAAD
SUMMARY:Vorbereitung: Rotenburger SV - TSV Etelsen
CREATED:20230114T000000Z
DTSTAMP:20230114T000000Z
URL:https://www.schlossparkkicker.de/index.php?option=com_dpcalendar&view=event&id=361&calid=60&Itemid=117
DESCRIPTION:Vorbereitungsspiel gegen einen Niedersachsenligisten. Den 1:1 Endstand erzielte Simon Pals noch in der 1. Halbzeit
X-ALT-DESC;FMTTYPE=text/html:<p>Vorbereitungsspiel gegen einen Niedersachsenligisten. Den 1:1 Endstand erzielte Simon Pals noch in der 1. Halbzeit</p>
LAST-MODIFIED:20230128T152650Z
SEQUENCE:1265210
X-ACCESS:1
X-HITS:135
X-COLOR:3366cc
X-SHOW-END-TIME:1
END:VEVENT
BEGIN:VEVENT
DTSTART;TZID=UTC:20230207T200000
DTEND;TZID=UTC:20230207T214500
UID:72F254EB-814B-45B9-9D06-AB9E1C0D8508
SUMMARY:Vorbereitung: FC Verden 04 II - TSV Etelsen
CREATED:20230114T000000Z
DTSTAMP:20230114T000000Z
URL:https://www.schlossparkkicker.de/index.php?option=com_dpcalendar&view=event&id=360&calid=60&Itemid=117
DESCRIPTION:Vorbereitungsspiel gegen einen Bezirksligisten auf Kunstrasen. Nach zwei Toren von Simon Pals konnte Verden durch Noah-Vincent Daust zwar verkürzen, aber nur 3 min später machte Luca Bischoff mit dem 1:3 (80.) den Deckel drauf 
X-ALT-DESC;FMTTYPE=text/html:<p>Vorbereitungsspiel gegen einen Bezirksligisten auf Kunstrasen. Nach zwei Toren von Simon Pals konnte Verden durch Noah-Vincent Daust zwar verkürzen, aber nur 3 min später machte Luca Bischoff mit dem 1:3 (80.) den Deckel drauf&nbsp;</p>
LAST-MODIFIED:20230208T115502Z
SEQUENCE:2202902
LOCATION:Lüneburger Weg 1\, 27283 Verden\, Niedersachsen\, Deutschland
GEO:52.92367212;9.25828071
X-LOCATION-DISPLAYNAME:FC Verden 04, Saumurplatz
X-ACCESS:1
X-HITS:192
X-COLOR:3366cc
X-SHOW-END-TIME:1
END:VEVENT
END:VCALENDAR