BEGIN:VCALENDAR
VERSION:2.0
PRODID:DPCALENDAR
CALSCALE:GREGORIAN
X-WR-TIMEZONE:UTC
BEGIN:VEVENT
DTSTART;TZID=UTC:20220717T150000
DTEND;TZID=UTC:20220717T164500
UID:6839480B-CDD9-4EEF-A674-DBE78FB7F325
SUMMARY:Pokal: TSV Etelsen - FC Verden 04
CREATED:20180706T090000Z
DTSTAMP:20180706T090000Z
URL:https://www.schlossparkkicker.de/index.php?option=com_dpcalendar&view=event&id=314&calid=80&Itemid=117
DESCRIPTION:In der 1. Hauptrunde des Krombacher Bezirkspokals Lüneburg treffen wir auf den Ligakonkurrenten FC Verden 04.
X-ALT-DESC;FMTTYPE=text/html:<p>In der 1. Hauptrunde des Krombacher Bezirkspokals Lüneburg treffen wir auf den Ligakonkurrenten FC Verden 04.</p>
LAST-MODIFIED:20220714T180640Z
SEQUENCE:126954400
LOCATION:Am Sportplatz 8\, 27299 Langwedel\, Niedersachsen\, Deutschland
GEO:52.99404900;9.11022500
X-LOCATION-DISPLAYNAME:TSV Etelsen, Schlosspark-Stadion
X-ACCESS:1
X-HITS:183
X-COLOR:040e8e
X-SHOW-END-TIME:1
END:VEVENT
BEGIN:VEVENT
DTSTART;TZID=UTC:20220720T190000
DTEND;TZID=UTC:20220720T204500
UID:447D51FF-463C-46CB-B36D-10A27D559ABD
SUMMARY:Pokal: TSV Lohberg - TSV Etelsen
CREATED:20220719T060000Z
DTSTAMP:20220719T060000Z
URL:https://www.schlossparkkicker.de/index.php?option=com_dpcalendar&view=event&id=351&calid=80&Itemid=117
DESCRIPTION:In der 2. Hauptrunde des Krombacher Bezirkspokals Lüneburg treffen wir auf den Kreisligisten TSV Lohberg. Auch wenn der Gegner zwei Klassen unter uns spielt, darf er keinesfalls unterschätzt werden, denn immerhin konnte sich das Team im bisherigen Pokalwettbewerb gleich 2x gegen Mannschaften aus der Bezirksliga durchsetzen! In der Qualifikationsrunde wurde der TSV Fischerhude-Quelkhorn klar mit 2:0 bezwungen und in der 1. Pokalhauptrunde rettete man sich in einer spannenden Begegnung gegen den SV Vorwärts Hülsen mit 4:4 ins Elfmeterschießen, welches man anschließend mit 5:3 für sich entscheiden konnte, sodass es am Ende 9:7 n.E. für die Lohberger stand.
X-ALT-DESC;FMTTYPE=text/html:<p>In der 2. Hauptrunde des Krombacher Bezirkspokals Lüneburg treffen wir auf den Kreisligisten TSV Lohberg. Auch wenn der Gegner zwei Klassen unter uns spielt, darf er keinesfalls unterschätzt werden, denn immerhin konnte sich das Team im bisherigen Pokalwettbewerb gleich 2x gegen Mannschaften aus der Bezirksliga durchsetzen! In der Qualifikationsrunde wurde der TSV Fischerhude-Quelkhorn klar mit 2:0 bezwungen und in der 1. Pokalhauptrunde rettete man sich in einer spannenden Begegnung gegen den SV Vorwärts Hülsen mit 4:4 ins Elfmeterschießen, welches man anschließend mit 5:3 für sich entscheiden konnte, sodass es am Ende 9:7 n.E. für die Lohberger stand.</p>
LAST-MODIFIED:20220719T063700Z
SEQUENCE:2220
LOCATION:Vor den Schüttenbrüchen 7\, 27308 Kirchlinteln\, Niedersachsen\, Deutschland
GEO:52.89008515;9.30638819
X-LOCATION-DISPLAYNAME:TSV Lohberg, Sportanlage an der Grundschule Luttum
X-ACCESS:1
X-HITS:136
X-COLOR:040e8e
X-SHOW-END-TIME:1
END:VEVENT
BEGIN:VEVENT
DTSTART;TZID=UTC:20220731T150000
DTEND;TZID=UTC:20220731T164500
UID:4187F34A-0110-465B-ACA3-343B693ABDE1
SUMMARY:Pokal: MTV Hammah - TSV Etelsen
CREATED:20220724T184427Z
DTSTAMP:20220724T184427Z
URL:https://www.schlossparkkicker.de/index.php?option=com_dpcalendar&view=event&id=354&calid=80&Itemid=117
DESCRIPTION:Achtelfinale des Bezirkspokals gegen einen Vertreter der Bezirksliga LG 4
X-ALT-DESC;FMTTYPE=text/html:<p>Achtelfinale des Bezirkspokals gegen einen Vertreter der Bezirksliga LG 4</p>
LAST-MODIFIED:20220724T184520Z
SEQUENCE:53
LOCATION:Am Sportplatz\, 21714 Hammah\, Niedersachsen\, Deutschland
GEO:53.61799650;9.35727190
X-LOCATION-DISPLAYNAME:MTV Hammah, Sportanlage
X-ACCESS:1
X-HITS:140
X-COLOR:040e8e
X-SHOW-END-TIME:1
END:VEVENT
BEGIN:VEVENT
DTSTART;TZID=UTC:20220810T183000
DTEND;TZID=UTC:20220810T201500
UID:9C5FA09D-17F3-4024-A3E4-8D8489DBD264
SUMMARY:Pokal: VSK Osterholz-Scharmbeck - TSV Etelsen
CREATED:20220719T060000Z
DTSTAMP:20220719T060000Z
URL:https://www.schlossparkkicker.de/index.php?option=com_dpcalendar&view=event&id=355&calid=80&Itemid=117
DESCRIPTION:Viertelfinale des Bezirkspokals. Der Gegner ist ein Team aus der Bezirksliga, wir gehen daher als Favorit in die Partie. 
X-ALT-DESC;FMTTYPE=text/html:<p>Viertelfinale des Bezirkspokals. Der Gegner ist ein Team aus der Bezirksliga, wir gehen daher als Favorit in die Partie.&nbsp;</p>
LAST-MODIFIED:20220803T194852Z
SEQUENCE:1345732
LOCATION:Am Stadion\, 27711 Osterholz-Scharmbeck\, Niedersachsen\, Deutschland
GEO:53.22297700;8.80380000
X-LOCATION-DISPLAYNAME:VSK Osterholz-Scharmbeck, Stadion
X-ACCESS:1
X-HITS:134
X-COLOR:040e8e
X-SHOW-END-TIME:1
END:VEVENT
BEGIN:VEVENT
DTSTART;TZID=UTC:20230408T160000
DTEND;TZID=UTC:20230408T174500
UID:6B4ED1A0-513D-40E6-B471-390C876C9511
SUMMARY:Pokal: SV Ippensen - TSV Etelsen
CREATED:20220905T060000Z
DTSTAMP:20220905T060000Z
URL:https://www.schlossparkkicker.de/index.php?option=com_dpcalendar&view=event&id=356&calid=80&Itemid=117
DESCRIPTION:Im Halbfinale geht es zu einem Bezirksligisten, also sind wir die Favoriten!
X-ALT-DESC;FMTTYPE=text/html:<p>Im Halbfinale geht es zu einem Bezirksligisten, also sind wir die Favoriten!</p>
LAST-MODIFIED:20230331T081400Z
SEQUENCE:17892840
LOCATION:Groß Ippensen 10\, 27419 Vierden\, Niedersachsen\, Deutschland
GEO:53.32935000;9.46934700
X-LOCATION-DISPLAYNAME:SV Ippensen, A-Platz
X-ACCESS:1
X-HITS:241
X-COLOR:040e8e
X-SHOW-END-TIME:1
END:VEVENT
BEGIN:VEVENT
DTSTART;TZID=UTC:20230517T184500
DTEND;TZID=UTC:20230517T203000
UID:5E7D9B3C-3A5E-483F-BFE5-10BBF7791062
SUMMARY:Pokal: TSV Etelsen - VfL Westercelle
CREATED:20220707T090955Z
DTSTAMP:20220707T090955Z
URL:https://www.schlossparkkicker.de/index.php?option=com_dpcalendar&view=event&id=362&calid=80&Itemid=117
DESCRIPTION:Im Finale des Krombacher Bezirkspokals spielen wir am heimischen Schlosspark gegen einen Liga-Konkurrenten!
X-ALT-DESC;FMTTYPE=text/html:<p>Im Finale des Krombacher Bezirkspokals spielen wir am heimischen Schlosspark gegen einen Liga-Konkurrenten!</p>
LAST-MODIFIED:20230509T122542Z
SEQUENCE:26450147
LOCATION:Am Sportplatz 8\, 27299 Langwedel\, Niedersachsen\, Deutschland
GEO:52.99404900;9.11022500
X-LOCATION-DISPLAYNAME:TSV Etelsen, Schlosspark-Stadion
X-ACCESS:1
X-HITS:353
X-COLOR:040e8e
X-SHOW-END-TIME:1
END:VEVENT
END:VCALENDAR