BEGIN:VCALENDAR
VERSION:2.0
PRODID:DPCALENDAR
CALSCALE:GREGORIAN
X-WR-TIMEZONE:UTC
BEGIN:VEVENT
DTSTART;TZID=UTC:20230704T200000
DTEND;TZID=UTC:20230704T214500
UID:D4DEE894-D49C-4DCC-8EF6-B95A21C81029
SUMMARY:Vorb.: TSV Etelsen - Heeslinger SC II
CREATED:20220707T084946Z
DTSTAMP:20220707T084946Z
URL:https://www.schlossparkkicker.de/index.php?option=com_dpcalendar&view=event&id=363&calid=82&Itemid=117
DESCRIPTION:Das Vorbereitungsspiel gegen den Bezirksligisten endete 3:1 (1:0). Blicker, Cyriacks und Niemann hatten für unsere 3:0 Führung gesorgt, doch in der 87. sorgte Badur für den Ehrentreffer der Gäste.
X-ALT-DESC;FMTTYPE=text/html:<p>Das Vorbereitungsspiel gegen den Bezirksligisten endete 3:1 (1:0). Blicker, Cyriacks und Niemann hatten für unsere 3:0 Führung gesorgt, doch in der 87. sorgte Badur für den Ehrentreffer der Gäste.</p>
LAST-MODIFIED:20230705T093619Z
SEQUENCE:31365993
LOCATION:Am Sportplatz 8\, 27299 Langwedel\, Niedersachsen\, Deutschland
GEO:52.99404900;9.11022500
X-LOCATION-DISPLAYNAME:TSV Etelsen, Schlosspark-Stadion
X-ACCESS:1
X-HITS:100
X-COLOR:3366cc
X-SHOW-END-TIME:1
END:VEVENT
BEGIN:VEVENT
DTSTART;TZID=UTC:20230714T193000
DTEND;TZID=UTC:20230714T211500
UID:C7077505-091B-48AF-8D94-F6C0F00DBE57
SUMMARY:Vorb.: TSV Etelsen - SV Hemelingen
CREATED:20230707T160000Z
DTSTAMP:20230707T160000Z
URL:https://www.schlossparkkicker.de/index.php?option=com_dpcalendar&view=event&id=368&calid=82&Itemid=117
DESCRIPTION:Das Vorbereitungsspiel gegen das Team aus der Bremenliga ging mit 0:3 verloren 
X-ALT-DESC;FMTTYPE=text/html:<p>Das Vorbereitungsspiel gegen das Team aus der Bremenliga ging mit 0:3 verloren&nbsp;</p>
LAST-MODIFIED:20230716T202619Z
SEQUENCE:793579
LOCATION:Am Sportplatz 8\, 27299 Langwedel\, Niedersachsen\, Deutschland
GEO:52.99404900;9.11022500
X-LOCATION-DISPLAYNAME:TSV Etelsen, Schlosspark-Stadion
X-ACCESS:1
X-HITS:125
X-COLOR:3366cc
X-SHOW-END-TIME:1
END:VEVENT
BEGIN:VEVENT
DTSTART;TZID=UTC:20230718T193000
DTEND;TZID=UTC:20230718T211500
UID:D53718D8-E2DC-451B-B40D-3A358FDE45B1
SUMMARY:Vorb.: TSV Etelsen - BTS Neustadt
CREATED:20220707T084946Z
DTSTAMP:20220707T084946Z
URL:https://www.schlossparkkicker.de/index.php?option=com_dpcalendar&view=event&id=364&calid=82&Itemid=117
DESCRIPTION:Das Vorbereitungsspiel gegen den Bremenligisten gewannen wir durch Nils Koehle (11.), Leon Krämer (60.) und Jarno Blicker (81.)  mit 3:0
X-ALT-DESC;FMTTYPE=text/html:<p>Das Vorbereitungsspiel gegen den Bremenligisten gewannen wir durch Nils Koehle (11.), Leon Krämer (60.) und Jarno Blicker (81.)&nbsp; mit 3:0</p>
LAST-MODIFIED:20230720T134901Z
SEQUENCE:32677155
LOCATION:Am Sportplatz 8\, 27299 Langwedel\, Niedersachsen\, Deutschland
GEO:52.99404900;9.11022500
X-LOCATION-DISPLAYNAME:TSV Etelsen, Schlosspark-Stadion
X-ACCESS:1
X-HITS:119
X-COLOR:3366cc
X-SHOW-END-TIME:1
END:VEVENT
BEGIN:VEVENT
DTSTART;TZID=UTC:20230725T200000
DTEND;TZID=UTC:20230725T214500
UID:1B15260B-213B-496A-9C5E-2708C3860FA3
SUMMARY:Vorb.: TSV Etelsen - FC Huchting
CREATED:20220707T084946Z
DTSTAMP:20220707T084946Z
URL:https://www.schlossparkkicker.de/index.php?option=com_dpcalendar&view=event&id=365&calid=82&Itemid=117
DESCRIPTION:Das Vorbereitungsspiel gegen ein Team der Bremer Landesliga gewannen wir mit 4:1. Nachdem wir in der 5. in Rückstand geraten waren, konnten wir Dank eines Doppelpacks von Alex Ruf (22./69.) die Begegnung drehen, bevor Leon N. Krämer (77.) und Timon Wolff (79.) für klare Verhältnisse sorgten.  
X-ALT-DESC;FMTTYPE=text/html:<p>Das Vorbereitungsspiel gegen ein Team der Bremer Landesliga gewannen wir mit 4:1. Nachdem wir in der 5. in Rückstand geraten waren, konnten wir Dank eines Doppelpacks von Alex Ruf (22./69.) die Begegnung drehen, bevor Leon N. Krämer (77.) und Timon Wolff (79.) für klare Verhältnisse sorgten.&nbsp; </p>
LAST-MODIFIED:20230726T062400Z
SEQUENCE:33168854
LOCATION:Am Sportplatz 8\, 27299 Langwedel\, Niedersachsen\, Deutschland
GEO:52.99404900;9.11022500
X-LOCATION-DISPLAYNAME:TSV Etelsen, Schlosspark-Stadion
X-ACCESS:1
X-HITS:169
X-COLOR:3366cc
X-SHOW-END-TIME:1
END:VEVENT
END:VCALENDAR